Workbook

Sheet بيانات وخطة تسويقية للمشروع
A1: دراسة جدوى مشروع
B4: خطة المشروع
B6: القسم الأول: بيانات عامة
B7: أولاً : بيانات عامة عن المشروع
B8: البيــــــــــــــــــــــــــــــــــــــــــــــــان | G8: التفصيــــــــــــــــــــــــــــل
B9: اســــــم المشـروع
B10: تخصص المشروع
B11: مساحة مقر المشروع
B12: مساحة المستودع ( إن وجد )
B13: المنطقة
B14: المدينة / القرية
B15: الحي
B16: الشارع
B17: إجمالي رأس مال المشروع | G17: ='البيانات المالية'!D23 -> 0
B18: قيمة التمويل المطلوب من جمعية ماجد للتنمية المجتمعية | G18: ='الجوانب الفنية والتمويلية'!C174 -> 0
B21: ثانيأ: بيانات عامة عن صاحبة المشروع
B22: البيــــــــــــــــــــــــــــــــــــــــــــــــان | G22: التفصيــــــــــــــــــــــــــــل
B23: الاسم
B24: سنة الميلاد
B25: المؤهل الدراسي
B26: التخصص
B27: سنة الحصول على المؤهل
B28: مجال الخبرة
B29: عدد سنوات الخبرة في نفس المجال
B30: رقم السجل المدني
B31: الهاتف الجوال
B34: ثالثاً: وصف فكرة المشروع | L34: تجاري
B35: نشاط المشروع: | D35: تجاري | L35: صناعي
L36: خدمي
B37: المنتجات أو الخدمات ( بشكل مختصر )
B45: يلبي المشروع الحاجات الأتية للعملاء:
B52: يقوم المشروع بالبيع بالطرق الآتية:
B57: المهارات الفنية المتخصصة ( كيفية تأمينها ):
B60: أسباب اختياري لفكرة المشروع:
B64: القسم الثاني : تخطيط الجوانب التسويقية للمشروع
B65: أولاً : العملاء
B66: العملاء | F66: مجموعة المنتجات أو الخدمات التي يحتاجونها
B73: ثانياً: المنافسين
B74: اسم المنافس | D74: المنتجات / الخدمات | G74: نقاط القوة | I74: نقاط الضعف
B88: ثالثاً: تحليل SWOT
B89: البيئة الداخلية للمشروع | E89: (W) مواطن الضعف الداخلية | H89: (S) مواطن القوة الداخلية
B93: البيئة الخارجية للمشروع
B95: (O) الفرص الخارجية | E95: (WO) المبادرات المبنية على مواطن الضعف الداخلية وعلى الفرص الخارجية | H95: (SO ) المبادرات المبنية على مواطن القوة الداخلية وعلى الفرص الخارجية
B101: (T) التهديدات الخارجية | E101: (WT) المبادرات المبنية على مواطن الضعف الداخلية وعلى التهديدات الخارجية | H101: (ST) المبادرات المبنية على مواطن القوة الداخلية وعلى التهديدات الخارجية
B107: رابعا : المنتجات والأسعار
B108: م | C108: المنتجات / الخدمات ( بشكل مفصل ) | H108: أسعار المنافسين | J108: السعر الأكثر شيوعا | L108: أسعاري المبدئية
H109: أقل سعر | I109: أعلى سعر
B110: 1
B111: 2
B112: 3
B113: 4
B114: 5
B115: 6
B116: 7
B117: 8
B118: 9
B119: 10
B120: 11
B121: 12
... B129: 20
B131: خامسا : الموقع : | L131: ملك
B132: نوع العقار | D132: ملك | L132: ايجار
B134: البيـــان | E134: التفصيـــــل
B135: وصف الموقع
B136: مساحة الموقع | E136: إجمالي المساحة : م
E137: الــــــــــــــــــطول : م
E138: الــعـــــــــــــرض : م
B139: ايجابيات الموقع | E139: عدم وجود محل منافس
B142: سلبيات الموقع
B144: قنوات التوزيع | E144: الحضور للمحل
E145: التوصيل للعملاء
A147: * | B147: الإيجار السنوي | G147: إيجار المبنى
G148: إيجار المستودع

Sheet الجوانب الفنية والتمويلية
B3: القسم الثالث:تخطيط الجوانب الفنية والتمويلية للمشروع
B7: أولاً: احتياجات المشروع من مصاريف التأسيس
B9: البيان | E9: القيمة بالريال
B10: دراسات فنية واقتصادية
B11: اعمال التشطيبات
B12: اعمال الديكور
B13: رسوم اللوحة ورخصة البلدية
B14: السجل التجاري واشتراك الغرفة التجارية
B15: اخرى
B16: المجموع | E16: =SUM(E10:E15) -> 0
B18: احتياجات المشروع من الأجهزة والمعدات
B19: البيان | E19: العدد | F19: القيمة بالريال | G19: إجمالي القيمة
E20: 1 | G20: =E20*F20 -> 0
E21: 0 | G21: =E21*F21 -> 0
E22: 0 | G22: =E22*F22 -> 0
E23: 0 | G23: =E23*F23 -> 0
E24: 0 | G24: =E24*F24 -> 0
E25: 0 | G25: =E25*F25 -> 0
E26: 0 | G26: =E26*F26 -> 0
E27: 0 | G27: =E27*F27 -> 0
E28: 0 | G28: =E28*F28 -> 0
E29: 0 | G29: =E29*F29 -> 0
B30: المجموع | G30: =SUM(G20:G29) -> 0
B31: احتياطي زيادة الاسعار | F31: 0.1 | G31: =G30*F31 -> 0
B32: الأجمالي | G32: =G30+G31 -> 0
B34: احتياجات المشروع من الأثاث والتجهيزات المكتبية
B35: البيان | E35: التكلفة
B36: الأثاث
B37: التكييف
B38: أجهزة الحاسب وملحقاته
B39: برامج مهمة
B40: أجهزة الاتصالات
B41: المجموع | E41: =SUM(E36:E40) -> 0
B43: احتياجات المشروع من السيارات والاليات
B44: البيــــــــــــــــــان | E44: السعر | F44: العدد | G44: التكلفة الاجمالية
E45: 0 | F45: 0 | G45: =E45*F45 -> 0
E46: 0 | F46: 0 | G46: =E46*F46 -> 0
E47: 0 | F47: 0 | G47: =E47*F47 -> 0
B48: المجموع | G48: =SUM(G45:G47) -> 0
B50: اجمالي رأس المال العامل
B51: البيان | D51: القيمة بالريال
B52: الالات والمعدات | D52: =G32 -> 0
B53: السيارات | D53: =G48 -> 0
B54: الأثاث والتجهيزات | D54: =E41 -> 0
B55: مصاريف التأسيس | D55: =E16 -> 0
B56: المجموع | D56: =SUM(D52:D55) -> 0
B58: ثانياً: تقدير احتياجات المشروع من تكاليف التشغيل النقدية
B59: البيان | E59: التكلفة السنوية
B60: ايجار المبنى | E60: ='بيانات وخطة تسويقية للمشروع'!E147:F147 -> 0
B61: ايجار المستودع | C61: الآلات والمعدات | D61: الآلات والمعدات | E61: ='بيانات وخطة تسويقية للمشروع'!E148:F148 -> 0
B62: المجموع | E62: =SUM(E60:E61) -> 0
B64: احتياجات المشروع من المواد الأولية
B65: اسم الصنف | C65: وحدة القياس | D65: الكمية الشهرية | E65: الكمية السنوية | F65: سعر الوحدة | G65: التكلفة السنوية
D66: 0 | E66: =D66*12 -> 0 | F66: 0 | G66: =E66*F66 -> 0
D67: 0 | E67: =D67*12 -> 0 | F67: 0 | G67: =E67*F67 -> 0
D68: 0 | E68: =D68*12 -> 0 | F68: 0 | G68: =E68*F68 -> 0
D69: 0 | E69: =D69*12 -> 0 | F69: 0 | G69: =E69*F69 -> 0
D70: 0 | E70: =D70*12 -> 0 | F70: 0 | G70: =E70*F70 -> 0
D71: 0 | E71: =D71*12 -> 0 | F71: 0 | G71: =E71*F71 -> 0
D72: 0 | E72: =D72*12 -> 0 | F72: 0 | G72: =E72*F72 -> 0
D73: 0 | E73: =D73*12 -> 0 | F73: 0 | G73: =E73*F73 -> 0
D74: 0 | E74: =D74*12 -> 0 | F74: 0 | G74: =E74*F74 -> 0
D75: 0 | E75: =D75*12 -> 0 | F75: 0 | G75: =E75*F75 -> 0
D76: 0 | E76: =D76*12 -> 0 | F76: 0 | G76: =E76*F76 -> 0
D77: 0 | E77: =D77*12 -> 0 | F77: 0 | G77: =E77*F77 -> 0
... D102: 0 | E102: =D102*12 -> 0 | F102: 0 | G102: =E102*F102 -> 0
B103: الإجمالي | G103: =SUM(G66:G102) -> 0
B106: احتياجات المشروع من الكوادر البشرية
B107: الوظيفة | C107: العدد | D107: الراتب الشهري | E107: تأمينات اجتماعية | F107: بدلات ومصاريف اخرى | G107: إجمالي الرواتب السنوية
B108: المدير العام | C108: 0 | D108: 0 | E108: 0 | F108: 0 | G108: =(E108+D108+F108)*12 -> 0
B109: موظف1 | C109: 0 | D109: 0 | E109: 0 | F109: 0 | G109: =(E109+D109)*12 -> 0
B110: موظف2 | C110: 0 | D110: 0 | E110: 0 | F110: 0 | G110: =(E110+D110)*12 -> 0
B111: موظف3 | C111: 0 | D111: 0 | E111: 0 | F111: 0 | G111: =(E111+D111)*12 -> 0
B112: المجموع | C112: =SUM(C108:C111) -> 0 | D112: =SUM(D108:D111) -> 0 | E112: =SUM(E108:E111) -> 0 | F112: =SUM(F108:F111) -> 0 | G112: =SUM(G108:G111) -> 0
B114: احتياجات المشروع من المنافع العامة
B115: البيان | E115: التكلفة السنوية
B116: الهاتف | E116: 0
B117: الكهرباء | E117: 0
B118: أخرى (الوقود، الغاز..) | E118: 0
B119: المجموع | E119: =SUM(E116:E118) -> 0
B121: التكلفة التقديرية لمصروفات التسويق
B122: البيان | C122: البيان | D122: البيان | E122: التكلفة السنوية
B123: مصروفات دعاية واعلان | C123: مواقع التواصل الاجتماعي | D123: مواقع التواصل الاجتماعي | E123: 0
B124: مطبوعات ونشرات | E124: 0
B125: موقع الانترنت | E125: 0
B126: مصروفات تسويقية متنوعة | E126: 0
B127: المجموع | C127: المجموع | D127: المجموع | E127: =SUM(E123:E126) -> 0
B129: التكلفة التقديرية للمصروفات العمومية والادارية
B130: البيان | E130: التكلفة السنوية
B131: الهاتف والفاكس والأنترنت | E131: 0
B132: قرطاسية ومطبوعات | E132: 0
B133: خدمات عامة وضيافة | E133: 0
B134: بترول(بنزين، ديزل) | E134: 0
B135: مصروفات نقل وانتقال + رسوم جمارك | E135: 0
B136: مصروفات متنوعة | E136: 0
B137: الإجمالي | E137: =SUM(E131:E136) -> 0
B139: التكلفة التقديرية لمصروفات الصيانة والإصلاح
B140: البيان | D140: قيمة الأصل | E140: معدل الصيانة | G140: قيمة الصيانة
B141: الآلات والمعدات | C141: الآلات والمعدات | D141: =G32 -> 0 | E141: 0.05 | G141: =D141*E141 -> 0
B142: سيارات ووسائل النقل والآليات | C142: سيارات ووسائل النقل والآليات | D142: =G48 -> 0 | E142: 0.05 | G142: =E142*D142 -> 0
...

Sheet الجوانب المالية
A3: القسم الرابع:تخطيط الجوانب المالية للمشروع
A4: أولاً: حساب اجمالي تكاليف التشغيل السنوية
A5: تكاليف التشغيل غير النقدية( الاهلاكات)
A6: البيان | C6: اجمالي القيمة | E6: معدل الاهلاك | F6: قيمة الاهلاك
A7: الآلات والمعدات | B7: الآلات والمعدات | C7: ='الجوانب الفنية والتمويلية'!G32 -> 0 | E7: 0.15 | F7: =E7*C7 -> 0
A8: السيارات والآليات | B8: السيارات والآليات | C8: ='الجوانب الفنية والتمويلية'!G48 -> 0 | E8: 0.2 | F8: =E8*C8 -> 0
A9: التجهيزات الإدارية والمكتبية | B9: الأثاث واللوازم المكتبية | C9: ='الجوانب الفنية والتمويلية'!E41 -> 0 | E9: 0.1 | F9: =E9*C9 -> 0
A10: مصاريف التأسيس | B10: مصاريف التأسيس | C10: ='الجوانب الفنية والتمويلية'!E16 -> 0 | E10: 0.2 | F10: =E10*C10 -> 0
A11: الاجمالي | F11: =SUM(F7:F10) -> 0
A13: اجمالي تكاليف التشغيل السنوية
A14: البيان | F14: التكلفة السنوية
A15: تكاليف التشغيل النقدية | C15: الإيجارات | F15: ='الجوانب الفنية والتمويلية'!D148 -> 0
C16: المواد اللازمة | F16: ='الجوانب الفنية والتمويلية'!D149 -> 0
C17: أجور العاملن (الكوادر البشرية) | F17: ='الجوانب الفنية والتمويلية'!D150 -> 0
C18: المنافع العامة | F18: ='الجوانب الفنية والتمويلية'!D151 -> 0
C19: التسويق والدعاية | F19: ='الجوانب الفنية والتمويلية'!D152 -> 0
C20: تكاليف الصيانة | F20: ='الجوانب الفنية والتمويلية'!D153 -> 0
C21: مصاريف إدارية وعمومية | F21: ='الجوانب الفنية والتمويلية'!D154 -> 0
C22: مصاريف أخرى | F22: ='الجوانب الفنية والتمويلية'!D155 -> 0
A23: تكاليف التشغيل غير النقدية | C23: اهلاك الاصول الثابتة واطفاء مصاريف التأسيس | F23: =F11 -> 0
A24: اجمالي تكاليف التشغيل السنوية | F24: =SUM(F15:F23) -> 0
A26: تكاليف التشغيل الثابتة والمتغيرة
A27: البيان | E27: كلي بالريال
A28: التكاليف الثابتة
A29: تكاليف التشغيل غير النقدية | E29: =F11 -> 0
A30: الايجارات السنوية | E30: ='الجوانب الفنية والتمويلية'!E62 -> 0
A31: تكاليف الصيانة | E31: ='الجوانب الفنية والتمويلية'!G144 -> 0
A32: مجموع التكاليف الثابتة | E32: =SUM(E29:F31) -> 0
A33: التكاليف المتغيرة
A34: تكاليف التشغيل السنوية يطرح منها التكاليف الثابتة | F34: =F24-E32 -> 0
A35: مجموع التكاليف المتغيرة | F35: =F34 -> 0
A37: ثانيأً: تقدير الإيرادات
A38: العوائد (الإيرادات) السنوية
A39: المنتج / الخدمة | B39: وحدة القياس | C39: عدد الوحدات المباعة في السنة | D39: سعر الوحدة | E39: المجموع
C40: 0 | D40: 0 | E40: =C40*D40 -> 0
C41: 0 | D41: 0 | E41: =C41*D41 -> 0
C42: 0 | D42: 0 | E42: =C42*D42 -> 0
C43: 0 | D43: 0 | E43: =C43*D43 -> 0
C44: 0 | D44: 0 | E44: =C44*D44 -> 0
C45: 0 | D45: 0 | E45: =C45*D45 -> 0
C46: 0 | D46: 0 | E46: =C46*D46 -> 0
C47: 0 | D47: 0 | E47: =C47*D47 -> 0
C48: 0 | D48: 0 | E48: =C48*D48 -> 0
C49: 0 | D49: 0 | E49: =C49*D49 -> 0
C50: 0 | D50: 0 | E50: =C50*D50 -> 0
C51: 0 | D51: 0 | E51: =C51*D51 -> 0
... C76: 0 | D76: 0 | E76: =C76*D76 -> 0
A77: الاجمالي | E77: =SUM(E40:E76) -> 0
A80: القوائم المالية
A81: البيان | B81: الربع الأول | C81: الربع الثاني | D81: الربع الثالث | E81: الربع الرابع | F81: مجموع السنة
B82: كلي بالريال | C82: كلي بالريال | D82: كلي بالريال | E82: كلي بالريال | F82: كلي بالريال
A83: العوائد المتوقعة | B83: =0 -> 0 | C83: =F83*20/100 -> 0 | D83: =F83*40/100 -> 0 | E83: =F83*40/100 -> 0 | F83: =E77 -> 0
A84: يخصم المصروفات
A85: تكاليف تشغيل نقدية بدون الإيجار | B85: =F85/4 -> 0 | C85: =F85/4 -> 0 | D85: =F85/4 -> 0 | E85: =F85/4 -> 0 | F85: ='الجوانب الفنية والتمويلية'!D156-F15 -> 0
A86: مصروف الإيجار | B86: =F86/2 -> 0 | D86: =F86/2 -> 0 | F86: =F15 -> 0
A87: تكاليف غير نقدية | B87: =F87/4 -> 0 | C87: =F87/4 -> 0 | D87: =F87/4 -> 0 | E87: =F87/4 -> 0 | F87: =F23 -> 0
A88: إجمالي المصروفات | B88: =SUM(B85:B87) -> 0 | C88: =SUM(C85:C87) -> 0 | D88: =SUM(D85:D87) -> 0 | E88: =SUM(E85:E87) -> 0 | F88: =SUM(F85:F87) -> 0
A89: الربح قبل الزكاة | B89: =B83-B88 -> 0 | C89: =C83-C88 -> 0 | D89: =D83-D88 -> 0 | E89: =E83-E88 -> 0 | F89: =F83-F88 -> 0
A90: الزكاة السنوية (%2.5) | B90: 0 | C90: 0 | D90: 0 | E90: =F90 -> 0 | F90: =F89*(2.5/100) -> 0
A91: الربح بعد الزكاة | B91: =B89 -> 0 | C91: =C89-C90 -> 0 | D91: =D89-D90 -> 0 | E91: =E89-E90 -> 0 | F91: =F89-F90 -> 0
A92: الأقساط الشهرية | B92: ='الجوانب الفنية والتمويلية'!D174*3 -> 0 | C92: ='الجوانب الفنية والتمويلية'!D174*3 -> 0 | D92: ='الجوانب الفنية والتمويلية'!D174*3 -> 0 | E92: ='الجوانب الفنية والتمويلية'!D174*3 -> 0 | F92: =E92+D92+C92+B92 -> 0
A93: الربح الصافي | B93: =B91 -> 0 | C93: =C91-C92 -> 0 | D93: =D91-D92 -> 0 | E93: =E91-E92 -> 0 | F93: =F91-F92 -> 0
A95: قائمة التدفقات النقدية التقديرية
A96: البيان | B96: الربع الأول | C96: الربع الثاني | D96: الربع الثالث | E96: الربع الرابع | F96: مجموع السنة
A97: رصيد النقدية في اول الفترة | B97: ='الجوانب الفنية والتمويلية'!G156 -> 0 | C97: =B109 -> 0 | D97: =C109 -> 0 | E97: =D109 -> 0 | F97: =B97 -> 0
A98: التدفقات النقدية الداخلة :
A99: إيراد المبيعات | B99: =B83 -> 0 | C99: =C83 -> 0 | D99: =D83 -> 0 | E99: =E83 -> 0 | F99: =F83 -> 0
A100: مصادر أخرى
A101: مجموع التدفقات النقدية الداخلة | B101: =SUM(B99:B100) -> 0 | C101: =SUM(C99:C100) -> 0 | D101: =SUM(D99:D100) -> 0 | E101: =SUM(E99:E100) -> 0 | F101: =SUM(F99:F100) -> 0
A102: التدفقات النقدية الخارجة :
A103: تكاليف تشغيل نقدية بدون الإيجار | B103: =B85 -> 0 | C103: =C85 -> 0 | D103: =D85 -> 0 | E103: =E85 -> 0 | F103: =F85 -> 0
A104: مصروف الإيجار | B104: =B86 -> 0 | D104: =D86 -> 0 | F104: =F86 -> 0
A105: مبلغ الزكاة | E105: =E90 -> 0 | F105: =F90 -> 0
A106: الأقساط الشهرية | B106: =B92 -> 0 | C106: =C92 -> 0 | D106: =D92 -> 0 | E106: =E90 -> 0 | F106: =F92 -> 0
A107: مجموع التدفقات النقدية الخارجة | B107: =SUM(B103:B106) -> 0 | C107: =SUM(C103:C106) -> 0 | D107: =SUM(D103:D106) -> 0 | E107: =SUM(E103:E106) -> 0 | F107: =SUM(F103:G106) -> 0
A108: الفائض او العجز | B108: =B101-B107 -> 0 | C108: =C101-C107 -> 0 | D108: =D101-D107 -> 0 | E108: =E101-E107 -> 0 | F108: =F101-F107 -> 0
A109: رصيد النقدية في أخر الفترة | B109: =B97+B108 -> 0 | C109: =C97+C108 -> 0 | D109: =D97+D108 -> 0 | E109: =E97+E108 -> 0 | F109: =F97+F108 -> 0
A111: قائمة المركز المالي التقديرية
A112: البيان | B112: الربع الأول | D112: الربع الثاني | F112: الربع الثالث | H112: الربع الرابع | J112: السنوي
B113: المبلغ الجزئي | C113: المبلغ الكلي | D113: المبلغ الجزئي | E113: المبلغ الكلي | F113: المبلغ الجزئي | G113: المبلغ الكلي | H113: المبلغ الجزئي | I113: المبلغ الكلي | J113: الاجمالي
A114: أولاً الأصول :
A115: الأصول المتداولة
A116: النقدية | C116: =B109 -> 0 | E116: =C109 -> 0 | G116: =D109 -> 0 | I116: =E109 -> 0 | J116: =SUM(I116) -> 0
A117: الاصول الثابتة | J117: =SUM(I117) -> 0
A118: الآلات والمعدات | B118: =C7 -> 0 | D118: =B118 -> 0 | F118: =D118 -> 0 | H118: =F118 -> 0
A119: مجمع اهلاك الآلات | B119: =D119*3/4 -> 0 | C119: =B118-B119 -> 0 | D119: =F119*3/4 -> 0 | E119: =D118-D119 -> 0 | F119: =H119*3/4 -> 0 | G119: =F118-F119 -> 0 | H119: =F7 -> 0 | J119: =H118-H119 -> 0
A120: أثاث وتجهيزات مكتبية | B120: =C9 -> 0 | D120: =B120 -> 0 | F120: =D120 -> 0 | H120: =F120 -> 0
A121: معدل اهلاك الأثاث | B121: =D121*3/4 -> 0 | C121: =B120-B121 -> 0 | D121: =F121*3/4 -> 0 | E121: =D120-D121 -> 0 | F121: =H121*3/4 -> 0 | G121: =F120-F121 -> 0 | H121: =F9 -> 0 | J121: =H120-H121 -> 0
A122: سيارات وآليات | B122: =C8 -> 0 | D122: =B122 -> 0 | F122: =D122 -> 0 | H122: =F122 -> 0
A123: معدل اهلاك السيارات | B123: =D123*3/4 -> 0 | C123: =B122-B123 -> 0 | D123: =F123*3/4 -> 0 | E123: =D122-D123 -> 0 | F123: =H123*3/4 -> 0 | G123: =F122-F123 -> 0 | H123: =F8 -> 0 | J123: =H122-H123 -> 0
A124: مصاريف التأسيس | B124: =C10 -> 0 | D124: =B124 -> 0 | F124: =D124 -> 0 | H124: =F124 -> 0
A125: مجمع اهلاك التأسيس | B125: =D125*3/4 -> 0 | C125: =B124-B125 -> 0 | D125: =F125*3/4 -> 0 | E125: =D124-D125 -> 0 | F125: =H125*3/4 -> 0 | G125: =F124-F125 -> 0 | H125: =F10 -> 0 | J125: =H124-H125 -> 0
A126: اجمالي الاصول الثابتة | B126: =B118-B119+B120-B121+B122-B123+B124-B125 -> 0 | C126: =C118-C119+C120-C121+C122-C123+C124-C125 -> 0 | D126: =D118-D119+D120-D121+D122-D123+D124-D125 -> 0 | E126: =E118-E119+E120-E121+E122-E123+E124-E125 -> 0 | F126: =F118-F119+F120-F121+F122-F123+F124-F125 -> 0 | G126: =G118-G119+G120-G121+G122-G123+G124-G125 -> 0 | H126: =H118-H119+H120-H121+H122-H123+H124-H125 -> 0 | I126: =I118-I119+I120-I121+I122-I123+I124-I125 -> 0 | J126: =SUM(B126:I126) -> 0
A127: إجمالي الأصول | B127: =B116+B126 -> 0 | C127: =C116+C126 -> 0 | D127: =D116+D126 -> 0 | E127: =E116+E126 -> 0 | F127: =F116+F126 -> 0 | G127: =G116+G126 -> 0 | H127: =H116+H126 -> 0 | I127: =I116+I126 -> 0 | J127: =J116+J126 -> 0
A128: ثانياً : الخصوم وحقوق الملكية :
A129: الخصوم قصيرة الأجل | J129: =SUM(B129:I129) -> 0
A130: موردون
A131: الخصوم طويلة الأجل
A132: قرض ماجد للتنمية المجتمعية | C132: ='الجوانب الفنية والتمويلية'!D169 -> 0 | E132: 0 | G132: 0 | I132: 0 | J132: =SUM(B132:I132)-F106 -> 0
A133: حقوق الملكية | J133: =SUM(B133:I133) -> 0
...

Sheet البيانات المالية
B5: الملخص المالي لدراسة الجدوى
B8: بيانات الدراسة المالية :
B9: الــبـــــيـــــان | C9: المبلغ | D9: الإجمالي | E9: ملاحظات
B10: الأصول الثابتة (القيمة بالكامل)
B11: احتياجات المشروع من الأجهزة والمعدات | C11: ='الجوانب الفنية والتمويلية'!G32 -> 0
B12: احتياجات المشروع من الأثاث والتجهيزات المكتبية | C12: ='الجوانب الفنية والتمويلية'!E41 -> 0
B13: احتياجات المشروع من السيارات والاليات | C13: ='الجوانب الفنية والتمويلية'!G48 -> 0
B14: مصاريف تأسيس | C14: ='الجوانب الفنية والتمويلية'!E16 -> 0
B15: إجمالي الأصول الثابتة (القيمة بالكامل) | D15: =SUM(C11:C14) -> 0
B16: رأس المال العامل:
B17: المواد الأولية | C17: ='الجوانب المالية'!F16 -> 0 | D17: =Table2[[#This Row],[المبلغ]]/4 -> 0
B18: المصاريف التشغيلية (رواتب،تغليف،تراخيص،نقل) | C18: =SUM('الجوانب المالية'!F17:F19) -> 0 | D18: =Table2[[#This Row],[المبلغ]]/4 -> 0
B19: المصاريف الإدارية والعمومية (صيانة،كهرباء،تسويق) | C19: =SUM('الجوانب المالية'!F20:F22) -> 0 | D19: =Table2[[#This Row],[المبلغ]]/4 -> 0
B20: الايجار | C20: ='الجوانب المالية'!F15 -> 0 | D20: =Table2[[#This Row],[المبلغ]]/2 -> 0
B21: اجمالي رأس المال العامل | C21: =SUM(C17:C20) -> 0 | D21: =SUM(D17:D20) -> 0
B23: اجمالي التكاليف الرأسمالية | D23: =D15+D21 -> 0
B24: قيمة القرض | D24: ='الجوانب الفنية والتمويلية'!C174 -> 0
B25: مساهمة صاحب المشروع | D25: ='الجوانب الفنية والتمويلية'!D168 -> 0
B28: قائمة الدخل : (سنوي)
B29: البـــــيـــــان | C29: السنة الأولى | D29: السنة الثانية
B30: المقبوضات :
B31: الإيرادات | C31: ='الجوانب المالية'!E77 -> 0
B32: اجمالي المقبوضات | C32: =C31 -> 0
B33: المصروفات :
B34: المواد الأولية | C34: =C17 -> 0
B35: المصروفات التشغيلية (الانتاجية) | C35: =C18 -> 0
B36: الايجار | C36: =C20 -> 0
B37: اجمالي المصروفات | C37: =SUM(C34:C36) -> 0
B38: مجمل الربح | C38: =C32-C37 -> 0
B39: المصروفات الإدارية | C39: =C19 -> 0
B40: الاهلاك السنوي للأصول الثابتة واطفاء مصاريف تأسيس | C40: ='الجوانب المالية'!F23 -> 0
B41: الزكاة | C41: ='الجوانب المالية'!F90 -> 0
B42: صافي الربح | C42: =C38-C39-C40-C41 -> 0
B43: الأقساط الشهرية السنوية | C43: ='الجوانب الفنية والتمويلية'!D174*12 -> 0
B44: فائض النقدية بعد سداد الأقساط | C44: =IFERROR(C42-C43,"") -> 0
