Workbook

Sheet بيانات وخطة تسويقية للمشروع
A1: دراسة جدوى مشروع
B4: خطة المشروع
B6: القسم الأول: بيانات عامة
B7: أولاً : بيانات عامة عن المشروع
B8: البيــــــــــــــــــــــــــــــــــــــــــــــــان | G8: التفصيــــــــــــــــــــــــــــل
B9: اســــــم المشـروع
B10: تخصص المشروع
B11: مساحة مقر المشروع
B12: مساحة المستودع ( إن وجد )
B13: المنطقة
B14: المدينة / القرية
B15: الحي
B16: الشارع
B17: إجمالي رأس مال المشروع | G17: ='البيانات المالية'!D23 -> 0
B18: قيمة التمويل المطلوب من جمعية ماجد للتنمية المجتمعية | G18: ='الجوانب الفنية والتمويلية'!C174 -> 0
B21: ثانيأ: بيانات عامة عن صاحبة المشروع
B22: البيــــــــــــــــــــــــــــــــــــــــــــــــان | G22: التفصيــــــــــــــــــــــــــــل
B23: الاسم
B24: سنة الميلاد
B25: المؤهل الدراسي
B26: التخصص
B27: سنة الحصول على المؤهل
B28: مجال الخبرة
B29: عدد سنوات الخبرة في نفس المجال
B30: رقم السجل المدني
B31: الهاتف الجوال
B34: ثالثاً: وصف فكرة المشروع | L34: تجاري
B35: نشاط المشروع: | D35: تجاري | L35: صناعي
L36: خدمي
B37: المنتجات أو الخدمات ( بشكل مختصر )
B45: يلبي المشروع الحاجات الأتية للعملاء:
B52: يقوم المشروع بالبيع بالطرق الآتية:
B57: المهارات الفنية المتخصصة ( كيفية تأمينها ):
B60: أسباب اختياري لفكرة المشروع:
B64: القسم الثاني : تخطيط الجوانب التسويقية للمشروع
B65: أولاً : العملاء
B66: العملاء | F66: مجموعة المنتجات أو الخدمات التي يحتاجونها
B73: ثانياً: المنافسين
B74: اسم المنافس | D74: المنتجات / الخدمات | G74: نقاط القوة | I74: نقاط الضعف
B88: ثالثاً: تحليل SWOT
...

Sheet الجوانب الفنية والتمويلية
B3: القسم الثالث:تخطيط الجوانب الفنية والتمويلية للمشروع
B7: أولاً: احتياجات المشروع من مصاريف التأسيس
B9: البيان | E9: القيمة بالريال
B10: دراسات فنية واقتصادية
B11: اعمال التشطيبات
B12: اعمال الديكور
B13: رسوم اللوحة ورخصة البلدية
B14: السجل التجاري واشتراك الغرفة التجارية
B15: اخرى
B16: المجموع | E16: =SUM(E10:E15) -> 0
B18: احتياجات المشروع من الأجهزة والمعدات
B19: البيان | E19: العدد | F19: القيمة بالريال | G19: إجمالي القيمة
E20: 1 | G20: =E20*F20 -> 0
E21: 0 | G21: =E21*F21 -> 0
E22: 0 | G22: =E22*F22 -> 0
E23: 0 | G23: =E23*F23 -> 0
E24: 0 | G24: =E24*F24 -> 0
E25: 0 | G25: =E25*F25 -> 0
E26: 0 | G26: =E26*F26 -> 0
E27: 0 | G27: =E27*F27 -> 0
E28: 0 | G28: =E28*F28 -> 0
E29: 0 | G29: =E29*F29 -> 0
B30: المجموع | G30: =SUM(G20:G29) -> 0
B31: احتياطي زيادة الاسعار | F31: 0.1 | G31: =G30*F31 -> 0
B32: الأجمالي | G32: =G30+G31 -> 0
B34: احتياجات المشروع من الأثاث والتجهيزات المكتبية
B35: البيان | E35: التكلفة
B36: الأثاث
B37: التكييف
B38: أجهزة الحاسب وملحقاته
B39: برامج مهمة
B40: أجهزة الاتصالات
B41: المجموع | E41: =SUM(E36:E40) -> 0
B43: احتياجات المشروع من السيارات والاليات
B44: البيــــــــــــــــــان | E44: السعر | F44: العدد | G44: التكلفة الاجمالية
E45: 0 | F45: 0 | G45: =E45*F45 -> 0
E46: 0 | F46: 0 | G46: =E46*F46 -> 0
E47: 0 | F47: 0 | G47: =E47*F47 -> 0
B48: المجموع | G48: =SUM(G45:G47) -> 0
B50: اجمالي رأس المال العامل
...

Sheet الجوانب المالية
A3: القسم الرابع:تخطيط الجوانب المالية للمشروع
A4: أولاً: حساب اجمالي تكاليف التشغيل السنوية
A5: تكاليف التشغيل غير النقدية( الاهلاكات)
A6: البيان | C6: اجمالي القيمة | E6: معدل الاهلاك | F6: قيمة الاهلاك
A7: الآلات والمعدات | B7: الآلات والمعدات | C7: ='الجوانب الفنية والتمويلية'!G32 -> 0 | E7: 0.15 | F7: =E7*C7 -> 0
A8: السيارات والآليات | B8: السيارات والآليات | C8: ='الجوانب الفنية والتمويلية'!G48 -> 0 | E8: 0.2 | F8: =E8*C8 -> 0
A9: التجهيزات الإدارية والمكتبية | B9: الأثاث واللوازم المكتبية | C9: ='الجوانب الفنية والتمويلية'!E41 -> 0 | E9: 0.1 | F9: =E9*C9 -> 0
A10: مصاريف التأسيس | B10: مصاريف التأسيس | C10: ='الجوانب الفنية والتمويلية'!E16 -> 0 | E10: 0.2 | F10: =E10*C10 -> 0
A11: الاجمالي | F11: =SUM(F7:F10) -> 0
A13: اجمالي تكاليف التشغيل السنوية
A14: البيان | F14: التكلفة السنوية
A15: تكاليف التشغيل النقدية | C15: الإيجارات | F15: ='الجوانب الفنية والتمويلية'!D148 -> 0
C16: المواد اللازمة | F16: ='الجوانب الفنية والتمويلية'!D149 -> 0
C17: أجور العاملن (الكوادر البشرية) | F17: ='الجوانب الفنية والتمويلية'!D150 -> 0
C18: المنافع العامة | F18: ='الجوانب الفنية والتمويلية'!D151 -> 0
C19: التسويق والدعاية | F19: ='الجوانب الفنية والتمويلية'!D152 -> 0
C20: تكاليف الصيانة | F20: ='الجوانب الفنية والتمويلية'!D153 -> 0
C21: مصاريف إدارية وعمومية | F21: ='الجوانب الفنية والتمويلية'!D154 -> 0
C22: مصاريف أخرى | F22: ='الجوانب الفنية والتمويلية'!D155 -> 0
A23: تكاليف التشغيل غير النقدية | C23: اهلاك الاصول الثابتة واطفاء مصاريف التأسيس | F23: =F11 -> 0
A24: اجمالي تكاليف التشغيل السنوية | F24: =SUM(F15:F23) -> 0
A26: تكاليف التشغيل الثابتة والمتغيرة
A27: البيان | E27: كلي بالريال
A28: التكاليف الثابتة
A29: تكاليف التشغيل غير النقدية | E29: =F11 -> 0
A30: الايجارات السنوية | E30: ='الجوانب الفنية والتمويلية'!E62 -> 0
A31: تكاليف الصيانة | E31: ='الجوانب الفنية والتمويلية'!G144 -> 0
A32: مجموع التكاليف الثابتة | E32: =SUM(E29:F31) -> 0
A33: التكاليف المتغيرة
A34: تكاليف التشغيل السنوية يطرح منها التكاليف الثابتة | F34: =F24-E32 -> 0
A35: مجموع التكاليف المتغيرة | F35: =F34 -> 0
A37: ثانيأً: تقدير الإيرادات
A38: العوائد (الإيرادات) السنوية
A39: المنتج / الخدمة | B39: وحدة القياس | C39: عدد الوحدات المباعة في السنة | D39: سعر الوحدة | E39: المجموع
C40: 0 | D40: 0 | E40: =C40*D40 -> 0
C41: 0 | D41: 0 | E41: =C41*D41 -> 0
C42: 0 | D42: 0 | E42: =C42*D42 -> 0
C43: 0 | D43: 0 | E43: =C43*D43 -> 0
C44: 0 | D44: 0 | E44: =C44*D44 -> 0
C45: 0 | D45: 0 | E45: =C45*D45 -> 0
...

Sheet البيانات المالية
B5: الملخص المالي لدراسة الجدوى
B8: بيانات الدراسة المالية :
B9: الــبـــــيـــــان | C9: المبلغ | D9: الإجمالي | E9: ملاحظات
B10: الأصول الثابتة (القيمة بالكامل)
B11: احتياجات المشروع من الأجهزة والمعدات | C11: ='الجوانب الفنية والتمويلية'!G32 -> 0
B12: احتياجات المشروع من الأثاث والتجهيزات المكتبية | C12: ='الجوانب الفنية والتمويلية'!E41 -> 0
B13: احتياجات المشروع من السيارات والاليات | C13: ='الجوانب الفنية والتمويلية'!G48 -> 0
B14: مصاريف تأسيس | C14: ='الجوانب الفنية والتمويلية'!E16 -> 0
B15: إجمالي الأصول الثابتة (القيمة بالكامل) | D15: =SUM(C11:C14) -> 0
B16: رأس المال العامل:
B17: المواد الأولية | C17: ='الجوانب المالية'!F16 -> 0 | D17: =Table2[[#This Row],[المبلغ]]/4 -> 0
B18: المصاريف التشغيلية (رواتب،تغليف،تراخيص،نقل) | C18: =SUM('الجوانب المالية'!F17:F19) -> 0 | D18: =Table2[[#This Row],[المبلغ]]/4 -> 0
B19: المصاريف الإدارية والعمومية (صيانة،كهرباء،تسويق) | C19: =SUM('الجوانب المالية'!F20:F22) -> 0 | D19: =Table2[[#This Row],[المبلغ]]/4 -> 0
B20: الايجار | C20: ='الجوانب المالية'!F15 -> 0 | D20: =Table2[[#This Row],[المبلغ]]/2 -> 0
B21: اجمالي رأس المال العامل | C21: =SUM(C17:C20) -> 0 | D21: =SUM(D17:D20) -> 0
B23: اجمالي التكاليف الرأسمالية | D23: =D15+D21 -> 0
B24: قيمة القرض | D24: ='الجوانب الفنية والتمويلية'!C174 -> 0
B25: مساهمة صاحب المشروع | D25: ='الجوانب الفنية والتمويلية'!D168 -> 0
B28: قائمة الدخل : (سنوي)
B29: البـــــيـــــان | C29: السنة الأولى | D29: السنة الثانية
B30: المقبوضات :
B31: الإيرادات | C31: ='الجوانب المالية'!E77 -> 0
B32: اجمالي المقبوضات | C32: =C31 -> 0
B33: المصروفات :
B34: المواد الأولية | C34: =C17 -> 0
B35: المصروفات التشغيلية (الانتاجية) | C35: =C18 -> 0
B36: الايجار | C36: =C20 -> 0
B37: اجمالي المصروفات | C37: =SUM(C34:C36) -> 0
B38: مجمل الربح | C38: =C32-C37 -> 0
B39: المصروفات الإدارية | C39: =C19 -> 0
B40: الاهلاك السنوي للأصول الثابتة واطفاء مصاريف تأسيس | C40: ='الجوانب المالية'!F23 -> 0
B41: الزكاة | C41: ='الجوانب المالية'!F90 -> 0
B42: صافي الربح | C42: =C38-C39-C40-C41 -> 0
B43: الأقساط الشهرية السنوية | C43: ='الجوانب الفنية والتمويلية'!D174*12 -> 0
B44: فائض النقدية بعد سداد الأقساط | C44: =IFERROR(C42-C43,"") -> 0
